BEGIN:VCALENDAR
VERSION:2.0
PRODID:-//Department Of Education//aa48ada0-b2f8-44b9-94b6-412d1bc9a337
BEGIN:VTIMEZONE
TZID:Australia/Sydney
TZURL:http://tzurl.org/zoneinfo-outlook/Australia/Sydney
X-LIC-LOCATION:Australia/Sydney
BEGIN:STANDARD
TZOFFSETFROM:+1100
TZOFFSETTO:+1000
TZNAME:AEST
DTSTART:19700405T030000
RRULE:FREQ=YEARLY;BYMONTH=4;BYDAY=1SU
END:STANDARD
BEGIN:DAYLIGHT
TZOFFSETFROM:+1000
TZOFFSETTO:+1100
TZNAME:AEDT
DTSTART:19701004T020000
RRULE:FREQ=YEARLY;BYMONTH=10;BYDAY=1SU
END:DAYLIGHT
END:VTIMEZONE
CALSCALE:GREGORIAN
X-WR-TIMEZONE:Australia/Sydney
BEGIN:VEVENT
DTSTART;VALUE=DATE:20200305
DTEND;VALUE=DATE:20200306
DTSTAMP:20200305T000000Z
UID:22bbb8e5-b708-4ff0-8329-4fee5faa889c
LOCATION:MPS
SUMMARY;LANGUAGE=en-us:Healthy Lunch Day
SEQUENCE:0
DESCRIPTION:$3.00 per child
END:VEVENT
TRANSP:TRANSPARENT
END:VCALENDAR
